BEGIN:VCALENDAR
VERSION:2.0
PRODID:SchoolNow
CALSCALE:GREGORIAN
BEGIN:VEVENT
UID:e64aba74-8280-11f0-af14-0e8b14fcf377
DTSTAMP:20260219T160226Z
SUMMARY:CDD Board Workshop - Feb. 2026
LOCATION:The WaterGrass Club located at 32711 Windelstraw Drive\, Wesley Ch
 apel\, FL 33545
URL;VALUE=URI:https://www.watergrasswesleychapelcdd.org/calendar/8545524/cd
 d-board-workshop-feb-2026
DTSTART:20260219T230000Z
DTEND:20260220T000000Z
ATTACH;FILENAME=2026-02-19 WaterGrass I CDD Final Agenda Package.pdf;FMTTYP
 E=application/pdf:https://campussuite-storage.s3.amazonaws.com/prod/155923
 4/6d122112-8a59-11ef-a123-0a58a9feac02/3070003/d5f2af8c-0828-11f1-8c9c-0a5
 8a9feac02/file/2026-02-19 WaterGrass I CDD Final Agenda Package.pdf
END:VEVENT
END:VCALENDAR
