BEGIN:VCALENDAR
VERSION:2.0
PRODID:SchoolNow
CALSCALE:GREGORIAN
BEGIN:VEVENT
UID:06a71812-8281-11f0-acd7-0afff983aa55
DTSTAMP:20260423T150031Z
SUMMARY:CDD Board Meeting - May 2026
LOCATION:The WaterGrass Club located at 32711 Windelstraw Drive\, Wesley Ch
 apel\, FL 33545
URL;VALUE=URI:https://www.watergrasswesleychapelcdd.org/calendar/8545529/cd
 d-board-meeting-may-2026
DTSTART:20260521T220000Z
DTEND:20260521T230000Z
END:VEVENT
END:VCALENDAR
