BEGIN:VCALENDAR
VERSION:2.0
PRODID:SchoolNow
CALSCALE:GREGORIAN
BEGIN:VEVENT
UID:10393d06-8281-11f0-87c7-0a58a9feac02
DTSTAMP:20250826T133256Z
SUMMARY:CDD Board Meeting - Jun. 2026
LOCATION:The WaterGrass Club located at 32711 Windelstraw Drive\, Wesley Ch
 apel\, FL 33545
URL;VALUE=URI:https://www.watergrasswesleychapelcdd.org/calendar/8545531/cd
 d-board-meeting-jun-2026
DTSTART:20260618T220000Z
DTEND:20260618T230000Z
END:VEVENT
END:VCALENDAR
